BEGIN:VCALENDAR
VERSION:2.0
PRODID:-//wp-events-plugin.com//7.2.3.1//EN
TZID:Europe/Berlin
X-WR-TIMEZONE:Europe/Berlin
BEGIN:VEVENT
UID:17-2178@spd-laubenheim.de
DTSTART;TZID=Europe/Berlin:20231212T190000
DTEND;TZID=Europe/Berlin:20231212T210000
DTSTAMP:20230809T125704Z
URL:https://spd-laubenheim.de/termine/events/offene-vorstandssitzung-spd-m
 ainz-laubenheim-4/
SUMMARY:Offene Vorstandssitzung SPD Mainz-Laubenheim
DESCRIPTION:
CATEGORIES:SPD Mainz-Laubenheim
LOCATION:AWO Begegnungsstätte Mainz-Laubenheim\, Wilhelm-Leuschner-Straße
  14\, Mainz-Laubenheim\, Rheinland-Pfalz\, 55130\, Deutschland
GEO:49.962077;8.312397
X-APPLE-STRUCTURED-LOCATION;VALUE=URI;X-ADDRESS=Wilhelm-Leuschner-Straße 1
 4\, Mainz-Laubenheim\, Rheinland-Pfalz\, 55130\, Deutschland;X-APPLE-RADIU
 S=100;X-TITLE=AWO Begegnungsstätte Mainz-Laubenheim:geo:49.962077,8.31239
 7
END:VEVENT
BEGIN:VTIMEZONE
TZID:Europe/Berlin
X-LIC-LOCATION:Europe/Berlin
BEGIN:STANDARD
DTSTART:20231029T020000
TZOFFSETFROM:+0200
TZOFFSETTO:+0100
TZNAME:CET
END:STANDARD
END:VTIMEZONE
END:VCALENDAR